BEGIN:VCALENDAR
VERSION:2.0
PRODID:-//Take Flight Learning - ECPv6.15.20//NONSGML v1.0//EN
CALSCALE:GREGORIAN
METHOD:PUBLISH
X-WR-CALNAME:Take Flight Learning
X-ORIGINAL-URL:https://takeflightlearning.com
X-WR-CALDESC:Events for Take Flight Learning
REFRESH-INTERVAL;VALUE=DURATION:PT1H
X-Robots-Tag:noindex
X-PUBLISHED-TTL:PT1H
BEGIN:VTIMEZONE
TZID:America/New_York
BEGIN:DAYLIGHT
TZOFFSETFROM:-0500
TZOFFSETTO:-0400
TZNAME:EDT
DTSTART:20210314T070000
END:DAYLIGHT
BEGIN:STANDARD
TZOFFSETFROM:-0400
TZOFFSETTO:-0500
TZNAME:EST
DTSTART:20211107T060000
END:STANDARD
BEGIN:DAYLIGHT
TZOFFSETFROM:-0500
TZOFFSETTO:-0400
TZNAME:EDT
DTSTART:20220313T070000
END:DAYLIGHT
BEGIN:STANDARD
TZOFFSETFROM:-0400
TZOFFSETTO:-0500
TZNAME:EST
DTSTART:20221106T060000
END:STANDARD
BEGIN:DAYLIGHT
TZOFFSETFROM:-0500
TZOFFSETTO:-0400
TZNAME:EDT
DTSTART:20230312T070000
END:DAYLIGHT
BEGIN:STANDARD
TZOFFSETFROM:-0400
TZOFFSETTO:-0500
TZNAME:EST
DTSTART:20231105T060000
END:STANDARD
END:VTIMEZONE
BEGIN:VEVENT
DTSTART;TZID=America/New_York:20220623T130000
DTEND;TZID=America/New_York:20220623T140000
DTSTAMP:20260419T190011
CREATED:20220510T005430Z
LAST-MODIFIED:20251125T211648Z
UID:10000373-1655989200-1655992800@takeflightlearning.com
SUMMARY:LIVE WEBINAR - Combing the Power of DISC and EQ
DESCRIPTION:  Register for free using the website link below: https://takeflightlearning.zoom.us/webinar/register/WN_h7lUESS9SYqTRcTFSwZpyA     Every year\, millions of people take DISC profiles and EQ assessments. Each one alone helps individuals understand how and why they act the way they do.  But these two models independently provide only a part of the picture. The four styles\, such as DISC\, or as I refer to them\, Eagles\, Parrots\, Doves\, and Owls\, styles are grounded in personality type theory in which a collection of traits embody a classified type with defined behavioral tendencies. For example\, an Eagle (or D style) is direct\, confident\, results-oriented\, and competitive). Emotional intelligence (EQ or EI) refers to the ability to perceive\, recognize\, evaluate\, understand\, and control our emotions. EQ allows us to choose how we think\, feel and act. Emotional intelligence gives us the ability to manage our own emotions and positively influence the emotions of others.  When combined\, the individual gets a more complete picture of their personality\, which the American Psychological Association defines as\, “individual differences in characteristic patterns of thinking\, feeling and behaving.”  When we integrate EQ (thoughts and feelings) with style (behaviors)\, individuals gain a deeper awareness of how they can shift their thoughts and behaviors to more effectively drive their career\, get better results\, and build healthy and enduring relationships. This insight will help people become the truest and best version of themselves. You will also discover the first EQ Profile that truly integrates EQ (thoughts and feelings) with style (behaviors) to provide a more holistic description of the individual. You will get a first-hand view of the new Taking Flight with EQ Profile in which people can gain a deep understanding of how their style is likely to display both high and low EQ for each of the four components of emotional intelligence (i.e.\, Self-Awareness\, Self-Management\, Social Awareness\, and Relationship Management).  Join our webinar and discover The Power of Combining DISC and EQ.   Register for free using the website link below: https://takeflightlearning.zoom.us/webinar/register/WN_h7lUESS9SYqTRcTFSwZpyA  
URL:https://takeflightlearning.com/event/eqwebinar/
CATEGORIES:Webinar Events
ATTACH;FMTTYPE=image/jpeg:https://takeflightlearning.com/wp-content/uploads/2025/04/live-webinar-combining-disc-and-eq-1.jpg
END:VEVENT
END:VCALENDAR