BEGIN:VCALENDAR
VERSION:2.0
PRODID:-//Take Flight Learning - ECPv6.15.20//NONSGML v1.0//EN
CALSCALE:GREGORIAN
METHOD:PUBLISH
X-WR-CALNAME:Take Flight Learning
X-ORIGINAL-URL:https://takeflightlearning.com
X-WR-CALDESC:Events for Take Flight Learning
REFRESH-INTERVAL;VALUE=DURATION:PT1H
X-Robots-Tag:noindex
X-PUBLISHED-TTL:PT1H
BEGIN:VTIMEZONE
TZID:America/New_York
BEGIN:DAYLIGHT
TZOFFSETFROM:-0500
TZOFFSETTO:-0400
TZNAME:EDT
DTSTART:20210314T070000
END:DAYLIGHT
BEGIN:STANDARD
TZOFFSETFROM:-0400
TZOFFSETTO:-0500
TZNAME:EST
DTSTART:20211107T060000
END:STANDARD
BEGIN:DAYLIGHT
TZOFFSETFROM:-0500
TZOFFSETTO:-0400
TZNAME:EDT
DTSTART:20220313T070000
END:DAYLIGHT
BEGIN:STANDARD
TZOFFSETFROM:-0400
TZOFFSETTO:-0500
TZNAME:EST
DTSTART:20221106T060000
END:STANDARD
BEGIN:DAYLIGHT
TZOFFSETFROM:-0500
TZOFFSETTO:-0400
TZNAME:EDT
DTSTART:20230312T070000
END:DAYLIGHT
BEGIN:STANDARD
TZOFFSETFROM:-0400
TZOFFSETTO:-0500
TZNAME:EST
DTSTART:20231105T060000
END:STANDARD
BEGIN:DAYLIGHT
TZOFFSETFROM:-0500
TZOFFSETTO:-0400
TZNAME:EDT
DTSTART:20240310T070000
END:DAYLIGHT
BEGIN:STANDARD
TZOFFSETFROM:-0400
TZOFFSETTO:-0500
TZNAME:EST
DTSTART:20241103T060000
END:STANDARD
BEGIN:DAYLIGHT
TZOFFSETFROM:-0500
TZOFFSETTO:-0400
TZNAME:EDT
DTSTART:20250309T070000
END:DAYLIGHT
BEGIN:STANDARD
TZOFFSETFROM:-0400
TZOFFSETTO:-0500
TZNAME:EST
DTSTART:20251102T060000
END:STANDARD
BEGIN:DAYLIGHT
TZOFFSETFROM:-0500
TZOFFSETTO:-0400
TZNAME:EDT
DTSTART:20260308T070000
END:DAYLIGHT
BEGIN:STANDARD
TZOFFSETFROM:-0400
TZOFFSETTO:-0500
TZNAME:EST
DTSTART:20261101T060000
END:STANDARD
BEGIN:DAYLIGHT
TZOFFSETFROM:-0500
TZOFFSETTO:-0400
TZNAME:EDT
DTSTART:20270314T070000
END:DAYLIGHT
BEGIN:STANDARD
TZOFFSETFROM:-0400
TZOFFSETTO:-0500
TZNAME:EST
DTSTART:20271107T060000
END:STANDARD
END:VTIMEZONE
BEGIN:VEVENT
DTSTART;TZID=America/New_York:20260216T130000
DTEND;TZID=America/New_York:20260216T140000
DTSTAMP:20260419T133000
CREATED:20251126T185725Z
LAST-MODIFIED:20251126T185725Z
UID:10000564-1771246800-1771250400@takeflightlearning.com
SUMMARY:Webinar: The DISC Styles in the White House
DESCRIPTION:Join Merrick Rosenberg\, award-winning author of Personality Wins: Who Will Take the White House and How We Know?\, to discover how US Presidents have used their DISC style\, or as Merrick calls them\, Eagles\, Parrots\, Doves\, and Owls\, to guide the nation. \nThroughout this interactive webinar\, you will deepen your knowledge of the styles and develop your people-reading skills as we play Guess the President’s Style. You’ll hear humorous and powerful stories that demonstrate what happens when a leader puts their style in action. \nMerrick will also explain what he shared in his TED Talk\, Are Presidential Elections One Big Personality Contest?. No politics\, just a pattern about the power of personality in determining the outcome of presidential elections that will blow your mind. Throughout an election year\, you’ll notice the styles in action after attending this webinar! \n  \n \n 
URL:https://takeflightlearning.com/event/webinar-the-disc-styles-in-the-white-house-2-26/
CATEGORIES:Webinar Events
END:VEVENT
BEGIN:VEVENT
DTSTART;TZID=America/New_York:20251121T130000
DTEND;TZID=America/New_York:20251121T140000
DTSTAMP:20260419T133000
CREATED:20251125T211918Z
LAST-MODIFIED:20251125T211918Z
UID:10000560-1763730000-1763733600@takeflightlearning.com
SUMMARY:Webinar: DISC & the Brain
DESCRIPTION:In this DISC and the Brain webinar\, Merrick Rosenberg will take you on an easy-to-understand exploration of the neuroscience of DISC. Join us and discover why there are four styles and how they make us tick. If you’ve seen Merrick’s Eagles\, Parrots\, Doves\, and Owls\, you know he has a way of bringing the styles to life. Tune into the complimentary webinar to learn from the Bird Guy himself.
URL:https://takeflightlearning.com/event/webinar-disc-the-brain/
CATEGORIES:Webinar Events
ATTACH;FMTTYPE=image/jpeg:https://takeflightlearning.com/wp-content/uploads/2024/12/email-artwork.jpg
END:VEVENT
BEGIN:VEVENT
DTSTART;TZID=America/New_York:20250610T130000
DTEND;TZID=America/New_York:20250610T140000
DTSTAMP:20260419T133000
CREATED:20251125T212158Z
LAST-MODIFIED:20251125T212158Z
UID:10000561-1749560400-1749564000@takeflightlearning.com
SUMMARY:Webinar: What if Everything About DISC Personality Training is Wrong
DESCRIPTION:Even though DISC assessments are commonly used around the world\, they regularly fail to have a lasting impact. While people are fascinated by their results\, awareness doesn’t often translate into sustained behavioral change. Learn how to reinvent DISC training to make it more engaging and stickier. Discover why DISC is not about graphs and reports\, but rather about application. You will learn how to place the styles into long-term memory and infuse them into your organizational culture\, rather than having them be just a fleeting fascination.
URL:https://takeflightlearning.com/event/webinar-what-if-everything-about-disc-personality-training-is-wrong/
CATEGORIES:Webinar Events
ATTACH;FMTTYPE=image/jpeg:https://takeflightlearning.com/wp-content/uploads/2025/11/webinar-registration-480x116-1.jpg
END:VEVENT
BEGIN:VEVENT
DTSTART;TZID=America/New_York:20250410T130000
DTEND;TZID=America/New_York:20250410T140000
DTSTAMP:20260419T133000
CREATED:20251125T212325Z
LAST-MODIFIED:20251125T212357Z
UID:10000562-1744290000-1744293600@takeflightlearning.com
SUMMARY:Webinar: The History\, Mystery\, and Future of Personality Styles
DESCRIPTION:Who are people like William Marston\, Carl Jung\, and Raymond Cattell and how did they contribute to the personality styles conversation? What is the Minnesota Multiphasic Personality Inventory? How about the Berkman\, the Big Five\, and the 16PF? What is the difference between DISC and the Myers Briggs Type Inventory? When and how did profiles enter corporate America\, and can we legally use them for hiring? \nIf you are using assessments in your organization\, this webinar will deepen your knowledge of where they came from\, why they are structured the way they are\, and what makes these profiles statistically valid. \nThen\, personality styles innovator Merrick Rosenberg will share what is happening today and where things are going in assessments and training based on styles and types. \n 
URL:https://takeflightlearning.com/event/webinar-the-history-mystery-and-future-of-personality-styles/
CATEGORIES:Webinar Events
END:VEVENT
BEGIN:VEVENT
DTSTART;TZID=America/New_York:20250217T130000
DTEND;TZID=America/New_York:20250217T140000
DTSTAMP:20260419T133000
CREATED:20251125T212515Z
LAST-MODIFIED:20251125T212515Z
UID:10000563-1739797200-1739800800@takeflightlearning.com
SUMMARY:Webinar: The DISC Styles in the White House
DESCRIPTION:Join Merrick Rosenberg\, award-winning author of Personality Wins: Who Will Take the White House and How We Know?\, to discover how US Presidents have used their DISC style\, or as Merrick calls them\, Eagles\, Parrots\, Doves\, and Owls\, to guide the nation. \nThroughout this interactive webinar\, you will deepen your knowledge of the styles and develop your people-reading skills as we play Guess the President’s Style. You’ll hear humorous and powerful stories that demonstrate what happens when a leader puts their style in action. \nMerrick will also explain what he shared in his TED Talk\, Are Presidential Elections One Big Personality Contest?. No politics\, just a pattern about the power of personality in determining the outcome of presidential elections that will blow your mind. Throughout an election year\, you’ll notice the styles in action after attending this webinar! \n  \n \n 
URL:https://takeflightlearning.com/event/webinar-the-disc-styles-in-the-white-house/
CATEGORIES:Webinar Events
END:VEVENT
BEGIN:VEVENT
DTSTART;TZID=America/New_York:20220623T130000
DTEND;TZID=America/New_York:20220623T140000
DTSTAMP:20260419T133000
CREATED:20220510T005430Z
LAST-MODIFIED:20251125T211648Z
UID:10000373-1655989200-1655992800@takeflightlearning.com
SUMMARY:LIVE WEBINAR - Combing the Power of DISC and EQ
DESCRIPTION:  Register for free using the website link below: https://takeflightlearning.zoom.us/webinar/register/WN_h7lUESS9SYqTRcTFSwZpyA     Every year\, millions of people take DISC profiles and EQ assessments. Each one alone helps individuals understand how and why they act the way they do.  But these two models independently provide only a part of the picture. The four styles\, such as DISC\, or as I refer to them\, Eagles\, Parrots\, Doves\, and Owls\, styles are grounded in personality type theory in which a collection of traits embody a classified type with defined behavioral tendencies. For example\, an Eagle (or D style) is direct\, confident\, results-oriented\, and competitive). Emotional intelligence (EQ or EI) refers to the ability to perceive\, recognize\, evaluate\, understand\, and control our emotions. EQ allows us to choose how we think\, feel and act. Emotional intelligence gives us the ability to manage our own emotions and positively influence the emotions of others.  When combined\, the individual gets a more complete picture of their personality\, which the American Psychological Association defines as\, “individual differences in characteristic patterns of thinking\, feeling and behaving.”  When we integrate EQ (thoughts and feelings) with style (behaviors)\, individuals gain a deeper awareness of how they can shift their thoughts and behaviors to more effectively drive their career\, get better results\, and build healthy and enduring relationships. This insight will help people become the truest and best version of themselves. You will also discover the first EQ Profile that truly integrates EQ (thoughts and feelings) with style (behaviors) to provide a more holistic description of the individual. You will get a first-hand view of the new Taking Flight with EQ Profile in which people can gain a deep understanding of how their style is likely to display both high and low EQ for each of the four components of emotional intelligence (i.e.\, Self-Awareness\, Self-Management\, Social Awareness\, and Relationship Management).  Join our webinar and discover The Power of Combining DISC and EQ.   Register for free using the website link below: https://takeflightlearning.zoom.us/webinar/register/WN_h7lUESS9SYqTRcTFSwZpyA  
URL:https://takeflightlearning.com/event/eqwebinar/
CATEGORIES:Webinar Events
ATTACH;FMTTYPE=image/jpeg:https://takeflightlearning.com/wp-content/uploads/2025/04/live-webinar-combining-disc-and-eq-1.jpg
END:VEVENT
END:VCALENDAR